BEGIN:VCALENDAR
VERSION:2.0
PRODID:-//News RSE - ECPv6.15.18//NONSGML v1.0//EN
CALSCALE:GREGORIAN
METHOD:PUBLISH
X-WR-CALNAME:News RSE
X-ORIGINAL-URL:https://newsrse.fr
X-WR-CALDESC:Évènements pour News RSE
REFRESH-INTERVAL;VALUE=DURATION:PT1H
X-Robots-Tag:noindex
X-PUBLISHED-TTL:PT1H
BEGIN:VTIMEZONE
TZID:Europe/Paris
BEGIN:DAYLIGHT
TZOFFSETFROM:+0100
TZOFFSETTO:+0200
TZNAME:CEST
DTSTART:20220327T010000
END:DAYLIGHT
BEGIN:STANDARD
TZOFFSETFROM:+0200
TZOFFSETTO:+0100
TZNAME:CET
DTSTART:20221030T010000
END:STANDARD
BEGIN:DAYLIGHT
TZOFFSETFROM:+0100
TZOFFSETTO:+0200
TZNAME:CEST
DTSTART:20230326T010000
END:DAYLIGHT
BEGIN:STANDARD
TZOFFSETFROM:+0200
TZOFFSETTO:+0100
TZNAME:CET
DTSTART:20231029T010000
END:STANDARD
BEGIN:DAYLIGHT
TZOFFSETFROM:+0100
TZOFFSETTO:+0200
TZNAME:CEST
DTSTART:20240331T010000
END:DAYLIGHT
BEGIN:STANDARD
TZOFFSETFROM:+0200
TZOFFSETTO:+0100
TZNAME:CET
DTSTART:20241027T010000
END:STANDARD
END:VTIMEZONE
BEGIN:VEVENT
DTSTART;VALUE=DATE:20231009
DTEND;VALUE=DATE:20231014
DTSTAMP:20260421T215750
CREATED:20230921T140337Z
LAST-MODIFIED:20230921T140337Z
UID:12647-1696809600-1697241599@newsrse.fr
SUMMARY:Semaine de l'entreprise responsable et inclusive
DESCRIPTION:Ces événements vous sont proposés partout en France\, en format présentiel et distanciel\, par des associations partenaires\, des entreprises et des organisations adhérentes de l’AFMD et/ou du Mouvement des Entreprises de France\, des fédérations professionnelles et des MEDEF territoriaux. \nPour l’édition 2023\, assister gratuitement à une centaine de rencontres partout en France\, en format présentiel\, hybride et distanciel. \nSemaine de l’entreprise responsable et inclusive\, qu’est-ce que c’est ? \nPour les entreprises ainsi que les différentes organisations et institutions\, la démarche RSE – responsabilité sociétale des entreprises – promet un impact tout particulièrement important dans la stratégie managériale. Elle permet notamment d’anticiper les risques et d’optimiser l’efficacité d’une équipe\, sans parler du fait qu’elle peut contribuer à augmenter considérablement le chiffre d’affaires. \nAu programme : \n\nEn apprendre un peu plus sur les différents enjeux de la RSE\, de la diversité et de l’inclusion\, et ce\, bien au-delà des simples obligations légales ;\nMieux appréhender les divers dispositifs déployés pour mettre en œuvre les bonnes pratiques. Mais aussi afin de s’en inspirer ;\nRencontrer des acteurs qui ont profondément intégré la démarche RSE dans leur quotidien opérationnel ;\nÉchanger des idées et des points de vue ;\nÉclairer et convaincre les organismes encore dans le doute.
URL:https://newsrse.fr/agenda-rse/semaine-de-lentreprise-responsable-et-inclusive/
CATEGORIES:Atelier-Formation
ATTACH;FMTTYPE=image/jpeg:https://newsrse.fr/wp-content/uploads/2023/09/Carre-pour-site_3.jpg
END:VEVENT
END:VCALENDAR